BEGIN:VCALENDAR
VERSION:2.0
PRODID:-//Forest Lane Academy - ECPv6.15.20//NONSGML v1.0//EN
CALSCALE:GREGORIAN
METHOD:PUBLISH
X-ORIGINAL-URL:https://schools.risd.org/ForestLaneAcademy
X-WR-CALDESC:Events for Forest Lane Academy
REFRESH-INTERVAL;VALUE=DURATION:PT1H
X-Robots-Tag:noindex
X-PUBLISHED-TTL:PT1H
BEGIN:VTIMEZONE
TZID:America/Chicago
BEGIN:DAYLIGHT
TZOFFSETFROM:-0600
TZOFFSETTO:-0500
TZNAME:CDT
DTSTART:20250309T080000
END:DAYLIGHT
BEGIN:STANDARD
TZOFFSETFROM:-0500
TZOFFSETTO:-0600
TZNAME:CST
DTSTART:20251102T070000
END:STANDARD
BEGIN:DAYLIGHT
TZOFFSETFROM:-0600
TZOFFSETTO:-0500
TZNAME:CDT
DTSTART:20260308T080000
END:DAYLIGHT
BEGIN:STANDARD
TZOFFSETFROM:-0500
TZOFFSETTO:-0600
TZNAME:CST
DTSTART:20261101T070000
END:STANDARD
BEGIN:DAYLIGHT
TZOFFSETFROM:-0600
TZOFFSETTO:-0500
TZNAME:CDT
DTSTART:20270314T080000
END:DAYLIGHT
BEGIN:STANDARD
TZOFFSETFROM:-0500
TZOFFSETTO:-0600
TZNAME:CST
DTSTART:20271107T070000
END:STANDARD
END:VTIMEZONE
BEGIN:VEVENT
DTSTART;TZID=America/Chicago:20260205T080000
DTEND;TZID=America/Chicago:20260205T170000
DTSTAMP:20260421T085720
CREATED:20250728T184601Z
LAST-MODIFIED:20250728T184601Z
UID:29841-1770278400-1770310800@schools.risd.org
SUMMARY:Early Release Day for Elementary Campuses.  Elementary students will be released at 1:00 p.m.
DESCRIPTION:Students on elementary campuses will be released at 1:00 p.m. today.  Please plan accordingly.
URL:https://schools.risd.org/ForestLaneAcademy/event/early-release-day-for-elementary-campuses-elementary-students-will-be-released-at-100-p-m/
END:VEVENT
BEGIN:VEVENT
DTSTART;TZID=America/Chicago:20260216T073000
DTEND;TZID=America/Chicago:20260216T160000
DTSTAMP:20260421T085720
CREATED:20250728T184715Z
LAST-MODIFIED:20250728T184715Z
UID:29843-1771227000-1771257600@schools.risd.org
SUMMARY:Student Holiday/Staff Professional Development
DESCRIPTION:Students will not have school today\, but staff will be present for professional development.
URL:https://schools.risd.org/ForestLaneAcademy/event/student-holiday-staff-professional-development-3/
END:VEVENT
BEGIN:VEVENT
DTSTART;VALUE=DATE:20260224
DTEND;VALUE=DATE:20260225
DTSTAMP:20260421T085720
CREATED:20250728T184817Z
LAST-MODIFIED:20250728T184817Z
UID:29845-1771891200-1771977599@schools.risd.org
SUMMARY:Enrollment for the 26-27 School Year opens today
DESCRIPTION:
URL:https://schools.risd.org/ForestLaneAcademy/event/enrollment-for-the-26-27-school-year-opens-today/
END:VEVENT
END:VCALENDAR