BEGIN:VCALENDAR
VERSION:2.0
PRODID:-//Pearce High School - ECPv6.15.20//NONSGML v1.0//EN
CALSCALE:GREGORIAN
METHOD:PUBLISH
X-ORIGINAL-URL:https://schools.risd.org/PearceHS
X-WR-CALDESC:Events for Pearce High School
REFRESH-INTERVAL;VALUE=DURATION:PT1H
X-Robots-Tag:noindex
X-PUBLISHED-TTL:PT1H
BEGIN:VTIMEZONE
TZID:America/Chicago
BEGIN:DAYLIGHT
TZOFFSETFROM:-0600
TZOFFSETTO:-0500
TZNAME:CDT
DTSTART:20250309T080000
END:DAYLIGHT
BEGIN:STANDARD
TZOFFSETFROM:-0500
TZOFFSETTO:-0600
TZNAME:CST
DTSTART:20251102T070000
END:STANDARD
BEGIN:DAYLIGHT
TZOFFSETFROM:-0600
TZOFFSETTO:-0500
TZNAME:CDT
DTSTART:20260308T080000
END:DAYLIGHT
BEGIN:STANDARD
TZOFFSETFROM:-0500
TZOFFSETTO:-0600
TZNAME:CST
DTSTART:20261101T070000
END:STANDARD
BEGIN:DAYLIGHT
TZOFFSETFROM:-0600
TZOFFSETTO:-0500
TZNAME:CDT
DTSTART:20270314T080000
END:DAYLIGHT
BEGIN:STANDARD
TZOFFSETFROM:-0500
TZOFFSETTO:-0600
TZNAME:CST
DTSTART:20271107T070000
END:STANDARD
END:VTIMEZONE
BEGIN:VEVENT
DTSTART;TZID=America/Chicago:20260421T173000
DTEND;TZID=America/Chicago:20260421T190000
DTSTAMP:20260421T102643
CREATED:20260414T195728Z
LAST-MODIFIED:20260414T195728Z
UID:44325-1776792600-1776798000@schools.risd.org
SUMMARY:One World\, Many Cultures Celebration
DESCRIPTION:Richardson ISD Elementary Fine Arts Culture Showcase \nPerformances begin at 6:00pm \n 
URL:https://schools.risd.org/PearceHS/event/one-world-many-cultures-celebration/
LOCATION:Pearce Auditorium
END:VEVENT
BEGIN:VEVENT
DTSTART;TZID=America/Chicago:20260427T180000
DTEND;TZID=America/Chicago:20260427T190000
DTSTAMP:20260421T102643
CREATED:20260323T141250Z
LAST-MODIFIED:20260323T141250Z
UID:44247-1777312800-1777316400@schools.risd.org
SUMMARY:Fall 2026 Volleyball Info Meeting
DESCRIPTION:Interested in participating in a sport next fall? Join us to get all your questions answered. \nAll incoming 9th-12th grade parents and athletes welcome. \nQuestions? Email jennifer.nance@risd.org. \n*Enter through the main school entrance on the Melrose side.
URL:https://schools.risd.org/PearceHS/event/fall-2026-volleyball-info-meeting/
LOCATION:Pearce Commons
END:VEVENT
BEGIN:VEVENT
DTSTART;TZID=America/Chicago:20260430T103000
DTEND;TZID=America/Chicago:20260430T110000
DTSTAMP:20260421T102643
CREATED:20260410T210818Z
LAST-MODIFIED:20260410T210818Z
UID:44298-1777545000-1777546800@schools.risd.org
SUMMARY:Pearce Fine Arts Signing Day
DESCRIPTION:
URL:https://schools.risd.org/PearceHS/event/pearce-fine-arts-signing-day/
LOCATION:Pearce Auditorium
END:VEVENT
BEGIN:VEVENT
DTSTART;TZID=America/Chicago:20260502T100000
DTEND;TZID=America/Chicago:20260502T120000
DTSTAMP:20260421T102643
CREATED:20260413T142205Z
LAST-MODIFIED:20260413T142205Z
UID:44305-1777716000-1777723200@schools.risd.org
SUMMARY:Young Adult Job Fair
DESCRIPTION:Ages 16+ \nQuestions? Email us at hello@localgood.org
URL:https://schools.risd.org/PearceHS/event/young-adult-job-fair/
LOCATION:Local Good Center\, 2201 K Ave. Suite A-200\, Plano\, TX\, 75074
END:VEVENT
BEGIN:VEVENT
DTSTART;TZID=America/Chicago:20260504T180000
DTEND;TZID=America/Chicago:20260504T190000
DTSTAMP:20260421T102643
CREATED:20260413T142019Z
LAST-MODIFIED:20260413T142019Z
UID:44303-1777917600-1777921200@schools.risd.org
SUMMARY:JJ Pearce Swim & Dive Informational Meeting
DESCRIPTION:Location: MAC Conference Room \nQuestions? Text Kristal Scott @ 214-676-1954
URL:https://schools.risd.org/PearceHS/event/jj-pearce-swim-dive-informational-meeting/
LOCATION:Pearce MAC
END:VEVENT
BEGIN:VEVENT
DTSTART;TZID=America/Chicago:20260507T180000
DTEND;TZID=America/Chicago:20260507T190000
DTSTAMP:20260421T102643
CREATED:20260323T141340Z
LAST-MODIFIED:20260323T141340Z
UID:44249-1778176800-1778180400@schools.risd.org
SUMMARY:Fall 2026 Cross Country Info Meeting
DESCRIPTION:Interested in participating in a sport next fall? Join us to get all your questions answered. \nAll incoming 9th-12th grade parents and athletes welcome. \nQuestions? Email anna.weatherly@risd.org. \n*Enter through the main school entrance on the Melrose side.
URL:https://schools.risd.org/PearceHS/event/fall-2026-cross-country-info-meeting/
LOCATION:Pearce Commons
END:VEVENT
BEGIN:VEVENT
DTSTART;TZID=America/Chicago:20260513T080000
DTEND;TZID=America/Chicago:20260513T170000
DTSTAMP:20260421T102643
CREATED:20260420T160301Z
LAST-MODIFIED:20260420T160301Z
UID:44330-1778659200-1778691600@schools.risd.org
SUMMARY:JJ Pearce Mustang 2026 Spring Football Game
DESCRIPTION:Location: Pearce B Field \n5:00pm- Gates open/ Pass\, Kick & Punt Registration \n5:15pm- Pass\, Kick & Punt (K-6th Grade) \n5:45pm-JV Scrimmage \n6:30pm- Varsity Scrimmage \n$5 tickets can be purchased online in advance or with CASH at the gate.
URL:https://schools.risd.org/PearceHS/event/jj-pearce-mustang-2026-spring-football-game/
LOCATION:Pearce High School
END:VEVENT
BEGIN:VEVENT
DTSTART;TZID=America/Chicago:20260520T200000
DTEND;TZID=America/Chicago:20260520T220000
DTSTAMP:20260421T102643
CREATED:20250825T142819Z
LAST-MODIFIED:20250825T142819Z
UID:31489-1779307200-1779314400@schools.risd.org
SUMMARY:Graduation
DESCRIPTION:Location: Wildcat-Ram Stadium
URL:https://schools.risd.org/PearceHS/event/graduation/
END:VEVENT
BEGIN:VEVENT
DTSTART;VALUE=DATE:20261017
DTEND;VALUE=DATE:20261019
DTSTAMP:20260421T102643
CREATED:20260413T142257Z
LAST-MODIFIED:20260413T142257Z
UID:44308-1792195200-1792367999@schools.risd.org
SUMMARY:JJ Pearce Pacesetter Annual Holiday Bazaar
DESCRIPTION:
URL:https://schools.risd.org/PearceHS/event/jj-pearce-pacesetter-annual-holiday-bazaar/
LOCATION:Pearce High School
END:VEVENT
END:VCALENDAR